BEGIN:VCALENDAR
VERSION:2.0
PRODID:-//OsakaLive//OsakaLive//EN
CALSCALE:GREGORIAN
METHOD:PUBLISH
BEGIN:VEVENT
UID:15cc337a-1f3c-448c-8f28-98e93725350e@osaka-live.app
DTSTAMP:20260425T103725Z
DTSTART;VALUE=DATE:20271021
DTEND;VALUE=DATE:20271022
SUMMARY:■カトリエル＆パコ・アモロソ／CA7RIEL & Paco Amoroso
LOCATION:Namba Hatch\, Osaka\, Japan
END:VEVENT
END:VCALENDAR
