BEGIN:VCALENDAR
VERSION:2.0
PRODID:-//OsakaLive//OsakaLive//EN
CALSCALE:GREGORIAN
METHOD:PUBLISH
BEGIN:VEVENT
UID:15b0c7f5-7637-457b-8465-e295dbd576ef@osaka-live.app
DTSTAMP:20260424T122222Z
DTSTART;TZID=Asia/Tokyo:20260505T1100:0000
DTEND;TZID=Asia/Tokyo:20260505T130000
SUMMARY:祝）昼の部 ticket
LOCATION:Namba BEARS\, Osaka\, Japan
DESCRIPTION:Adv ¥2,000 / Door ¥2,000\nDoors 10:30:00\nStart 11:00:00
END:VEVENT
END:VCALENDAR
