BEGIN:VCALENDAR
VERSION:2.0
PRODID:-//OsakaLive//OsakaLive//EN
CALSCALE:GREGORIAN
METHOD:PUBLISH
BEGIN:VEVENT
UID:14b53ed0-d4da-4fec-bb55-f6370716651a@osaka-live.app
DTSTAMP:20260424T134648Z
DTSTART;TZID=Asia/Tokyo:20260519T1930:0000
DTEND;TZID=Asia/Tokyo:20260519T213000
SUMMARY:NOT A FRIEND
LOCATION:Namba BEARS\, Osaka\, Japan
DESCRIPTION:Adv ¥2,500 / Door ¥3,000\nDoors 19:00:00\nStart 19:30:00
END:VEVENT
END:VCALENDAR
