BEGIN:VCALENDAR
VERSION:2.0
PRODID:-//OsakaLive//OsakaLive//EN
CALSCALE:GREGORIAN
METHOD:PUBLISH
BEGIN:VEVENT
UID:13c526fe-400c-47ca-84ea-92df955b8f47@osaka-live.app
DTSTAMP:20260424T153045Z
DTSTART;TZID=Asia/Tokyo:20260404T1415:0000
DTEND;TZID=Asia/Tokyo:20260404T161500
SUMMARY:Being an idol fan
LOCATION:Americamura DROP\, Osaka\, Japan
DESCRIPTION:Doors 14:00:00\nStart 14:15:00
END:VEVENT
END:VCALENDAR
