BEGIN:VCALENDAR
VERSION:2.0
PRODID:-//OsakaLive//OsakaLive//EN
CALSCALE:GREGORIAN
METHOD:PUBLISH
BEGIN:VEVENT
UID:132d432a-e93d-40c0-b421-cbc5bff5d106@osaka-live.app
DTSTAMP:20260425T003421Z
DTSTART;VALUE=DATE:20270510
DTEND;VALUE=DATE:20270511
SUMMARY:5月9日（愛知　名古屋HeartLand
LOCATION:Grand Cube Osaka\, Osaka\, Japan
END:VEVENT
END:VCALENDAR
