BEGIN:VCALENDAR
VERSION:2.0
PRODID:-//OsakaLive//OsakaLive//EN
CALSCALE:GREGORIAN
METHOD:PUBLISH
BEGIN:VEVENT
UID:12a225e9-8297-4500-9d8a-52f253edbab2@osaka-live.app
DTSTAMP:20260424T123716Z
DTSTART;VALUE=DATE:20260421
DTEND;VALUE=DATE:20260422
SUMMARY:Zeela presents Zeela Drum Fes
LOCATION:Umeda Zeela\, Osaka\, Japan
DESCRIPTION:Adv ¥3,000 / Door ¥3,000
END:VEVENT
END:VCALENDAR
