BEGIN:VCALENDAR
VERSION:2.0
PRODID:-//OsakaLive//OsakaLive//EN
CALSCALE:GREGORIAN
METHOD:PUBLISH
BEGIN:VEVENT
UID:12113fc1-bf2f-43fb-9291-dcfe4056e7ee@osaka-live.app
DTSTAMP:20260424T133724Z
DTSTART;VALUE=DATE:20260616
DTEND;VALUE=DATE:20260617
SUMMARY:ワカマツヨウジン"メモランダム"レコード発売記念ライブ
LOCATION:Namba BEARS\, Osaka\, Japan
DESCRIPTION:Adv ¥2,500 / Door ¥3,000
END:VEVENT
END:VCALENDAR
