BEGIN:VCALENDAR
VERSION:2.0
PRODID:-//OsakaLive//OsakaLive//EN
CALSCALE:GREGORIAN
METHOD:PUBLISH
BEGIN:VEVENT
UID:1164e9be-58eb-45f2-a15f-9f7ea8340f85@osaka-live.app
DTSTAMP:20260424T135646Z
DTSTART;VALUE=DATE:20260614
DTEND;VALUE=DATE:20260615
SUMMARY:青春枯葉剤企画
LOCATION:Namba BEARS\, Osaka\, Japan
END:VEVENT
END:VCALENDAR
