BEGIN:VCALENDAR
VERSION:2.0
PRODID:-//OsakaLive//OsakaLive//EN
CALSCALE:GREGORIAN
METHOD:PUBLISH
BEGIN:VEVENT
UID:11382e35-e42e-4868-a3b5-60e6792506d4@osaka-live.app
DTSTAMP:20260424T135431Z
DTSTART;TZID=Asia/Tokyo:20260722T1900:0000
DTEND;TZID=Asia/Tokyo:20260722T210000
SUMMARY:不失者（灰野敬二 創曲
LOCATION:Namba BEARS\, Osaka\, Japan
DESCRIPTION:Adv ¥5,000 / Door ¥5,500\nDoors 18:30:00\nStart 19:00:00
END:VEVENT
END:VCALENDAR
