BEGIN:VCALENDAR
VERSION:2.0
PRODID:-//OsakaLive//OsakaLive//EN
CALSCALE:GREGORIAN
METHOD:PUBLISH
BEGIN:VEVENT
UID:1117e4d3-3b03-4b97-abe4-51b78233b098@osaka-live.app
DTSTAMP:20260424T154713Z
DTSTART;TZID=Asia/Tokyo:20260608T1700:0000
DTEND;TZID=Asia/Tokyo:20260608T190000
SUMMARY:VALHALLA FIRST ONEMAN LIVE TOUR［-ASCENSION-］
LOCATION:Americamura DROP\, Osaka\, Japan
DESCRIPTION:Doors 16:30:00\nStart 17:00:00
END:VEVENT
END:VCALENDAR
