BEGIN:VCALENDAR
VERSION:2.0
PRODID:-//OsakaLive//OsakaLive//EN
CALSCALE:GREGORIAN
METHOD:PUBLISH
BEGIN:VEVENT
UID:110392f8-80db-4a32-a50f-a660daf91f68@osaka-live.app
DTSTAMP:20260424T135839Z
DTSTART;VALUE=DATE:20260627
DTEND;VALUE=DATE:20260628
SUMMARY:MYSTIC RIVER
LOCATION:Namba BEARS\, Osaka\, Japan
DESCRIPTION:Doors 18:00:00
END:VEVENT
END:VCALENDAR
