BEGIN:VCALENDAR
VERSION:2.0
PRODID:-//OsakaLive//OsakaLive//EN
CALSCALE:GREGORIAN
METHOD:PUBLISH
BEGIN:VEVENT
UID:0d64b9f9-e6e9-4cc0-b701-3f7379a91496@osaka-live.app
DTSTAMP:20260424T134120Z
DTSTART;VALUE=DATE:20260628
DTEND;VALUE=DATE:20260629
SUMMARY:SMD NIGHT
LOCATION:Namba BEARS\, Osaka\, Japan
END:VEVENT
END:VCALENDAR
