BEGIN:VCALENDAR
VERSION:2.0
PRODID:-//OsakaLive//OsakaLive//EN
CALSCALE:GREGORIAN
METHOD:PUBLISH
BEGIN:VEVENT
UID:0b6dfd9e-f14f-4c13-b690-3b87234e8d00@osaka-live.app
DTSTAMP:20260424T134525Z
DTSTART;VALUE=DATE:20260531
DTEND;VALUE=DATE:20260601
SUMMARY:THE BLACK DOLPHINS ワンマン
LOCATION:Namba BEARS\, Osaka\, Japan
END:VEVENT
END:VCALENDAR
