BEGIN:VCALENDAR
VERSION:2.0
PRODID:-//OsakaLive//OsakaLive//EN
CALSCALE:GREGORIAN
METHOD:PUBLISH
BEGIN:VEVENT
UID:0aa14295-e02c-4a9a-8208-119df61c3c56@osaka-live.app
DTSTAMP:20260424T154427Z
DTSTART;TZID=Asia/Tokyo:20260419T2020:0000
DTEND;TZID=Asia/Tokyo:20260419T222000
SUMMARY:ボクセカ休日単独公演 -彼シャツ公演-
LOCATION:Americamura DROP\, Osaka\, Japan
DESCRIPTION:Doors 20:00:00\nStart 20:20:00
END:VEVENT
END:VCALENDAR
