BEGIN:VCALENDAR
VERSION:2.0
PRODID:-//OsakaLive//OsakaLive//EN
CALSCALE:GREGORIAN
METHOD:PUBLISH
BEGIN:VEVENT
UID:0a9f6c86-2729-4eb4-9976-5fb29d1871f1@osaka-live.app
DTSTAMP:20260424T123900Z
DTSTART;VALUE=DATE:20260409
DTEND;VALUE=DATE:20260410
SUMMARY:BLUE PARADE vol.10
LOCATION:Umeda Zeela\, Osaka\, Japan
DESCRIPTION:Adv ¥3,000 / Door ¥3,500
END:VEVENT
END:VCALENDAR
