BEGIN:VCALENDAR
VERSION:2.0
PRODID:-//OsakaLive//OsakaLive//EN
CALSCALE:GREGORIAN
METHOD:PUBLISH
BEGIN:VEVENT
UID:099b1daf-c29c-477d-9e22-118197a4267f@osaka-live.app
DTSTAMP:20260425T003852Z
DTSTART;VALUE=DATE:20270601
DTEND;VALUE=DATE:20270602
SUMMARY:■ボズ・スキャッグス／Boz Scaggs
LOCATION:Grand Cube Osaka\, Osaka\, Japan
END:VEVENT
END:VCALENDAR
