BEGIN:VCALENDAR
VERSION:2.0
PRODID:-//OsakaLive//OsakaLive//EN
CALSCALE:GREGORIAN
METHOD:PUBLISH
BEGIN:VEVENT
UID:06ba80cc-24c2-4ede-a2ec-976564a97d53@osaka-live.app
DTSTAMP:20260424T123405Z
DTSTART;TZID=Asia/Tokyo:20260429T1700:0000
DTEND;TZID=Asia/Tokyo:20260429T190000
SUMMARY:Aile The Shota Oneman Tour 2026
LOCATION:BIG CAT\, Americamura\, Nishi Ward\, Osaka
DESCRIPTION:Doors 16:00:00\nStart 17:00:00\nTickets: http://l-tike.com/
URL:http://l-tike.com/
END:VEVENT
END:VCALENDAR
