BEGIN:VCALENDAR
VERSION:2.0
PRODID:-//OsakaLive//OsakaLive//EN
CALSCALE:GREGORIAN
METHOD:PUBLISH
BEGIN:VEVENT
UID:061acf5d-4567-46d2-9efe-971a2da7c194@osaka-live.app
DTSTAMP:20260424T122915Z
DTSTART;TZID=Asia/Tokyo:20260428T1830:0000
DTEND;TZID=Asia/Tokyo:20260428T203000
SUMMARY:ためらう この足を 踏み切らせてくれ！ vol.3
LOCATION:Namba Mele\, Namba\, Chuo Ward\, Osaka
DESCRIPTION:Adv ¥3,000 / Door ¥3,500\nDoors 18:00:00\nStart 18:30:00\nTicke
 ts: https://eplus.jp/sf/detail/4473500001-P0030001
URL:https://eplus.jp/sf/detail/4473500001-P0030001
END:VEVENT
END:VCALENDAR
