BEGIN:VCALENDAR
VERSION:2.0
PRODID:-//OsakaLive//OsakaLive//EN
CALSCALE:GREGORIAN
METHOD:PUBLISH
BEGIN:VEVENT
UID:02fe869e-2903-48b0-8334-c84254b8095b@osaka-live.app
DTSTAMP:20260424T123711Z
DTSTART;VALUE=DATE:20260417
DTEND;VALUE=DATE:20260418
SUMMARY:Zeela presents POPCONE VIBRATION
LOCATION:Umeda Zeela\, Osaka\, Japan
DESCRIPTION:Adv ¥2,800 / Door ¥3,300
END:VEVENT
END:VCALENDAR
