BEGIN:VCALENDAR
VERSION:2.0
PRODID:-//OsakaLive//OsakaLive//EN
CALSCALE:GREGORIAN
METHOD:PUBLISH
BEGIN:VEVENT
UID:0191a274-8343-4c07-b3a2-9a777030894c@osaka-live.app
DTSTAMP:20260424T122627Z
DTSTART;VALUE=DATE:20270602
DTEND;VALUE=DATE:20270603
SUMMARY:■トータス／Tortoise
LOCATION:Umeda Club Quattro\, Osaka\, Japan
END:VEVENT
END:VCALENDAR
