BEGIN:VCALENDAR
VERSION:2.0
PRODID:-//OsakaLive//OsakaLive//EN
CALSCALE:GREGORIAN
METHOD:PUBLISH
BEGIN:VEVENT
UID:00f590c1-69a6-43df-8b6b-57e8ff603972@osaka-live.app
DTSTAMP:20260424T123900Z
DTSTART;VALUE=DATE:20260419
DTEND;VALUE=DATE:20260420
SUMMARY:BASS ON TOP 天王寺店 にがや presents. 【にがぷれ !!
LOCATION:Umeda Zeela\, Osaka\, Japan
DESCRIPTION:Adv ¥3,000 / Door ¥3,500
END:VEVENT
END:VCALENDAR
