BEGIN:VCALENDAR
VERSION:2.0
PRODID:-//OsakaLive//OsakaLive//EN
CALSCALE:GREGORIAN
METHOD:PUBLISH
BEGIN:VEVENT
UID:00ca92b0-bc75-48ff-94df-3d35b62c724e@osaka-live.app
DTSTAMP:20260424T121456Z
DTSTART;TZID=Asia/Tokyo:20260430T1930:0000
DTEND;TZID=Asia/Tokyo:20260430T213000
SUMMARY:Paul Larson(Strictly Ballroom/Datamaps) JAPAN TOUR 2026
LOCATION:Namba BEARS\, Osaka\, Japan
DESCRIPTION:Adv ¥2,500 / Door ¥3,000\nDoors 19:00:00\nStart 19:30:00
END:VEVENT
END:VCALENDAR
